BEGIN:VCALENDAR
VERSION:2.0
PRODID:-//wp-events-plugin.com//7.2.3.1//EN
BEGIN:VEVENT
UID:971@mnbeer.com
DTSTART:20141212T220000Z
DTEND:20141213T000000Z
DTSTAMP:20141211T070523Z
URL:https://www.mnbeer.com/events/darkness-vertical-sale-signing/
SUMMARY:Darkness Vertical Sale & Signing
DESCRIPTION:
ATTACH;FMTTYPE=image/jpeg:https://www.mnbeer.com/wp-content/uploads/darkne
 ssvert-e1418281422570.jpg
CATEGORIES:Breweries
LOCATION:BC Liquor\, 5625A Xerxes Avenue North\, Brooklyn Center\, MN\, Uni
 ted States
GEO:45.0587361;-93.32203700000002
X-APPLE-STRUCTURED-LOCATION;VALUE=URI;X-ADDRESS=5625A Xerxes Avenue North\,
  Brooklyn Center\, MN\, United States;X-APPLE-RADIUS=100;X-TITLE=BC Liquor
 :geo:45.0587361,-93.32203700000002
END:VEVENT
END:VCALENDAR