BEGIN:VCALENDAR
VERSION:2.0
PRODID:-//wp-events-plugin.com//7.2.3.1//EN
BEGIN:VEVENT
UID:832@mnbeer.com
DTSTART:20140923T233000Z
DTEND:20140924T023000Z
DTSTAMP:20140916T004957Z
URL:https://www.mnbeer.com/events/day-block-brewing-beer-dinner/
SUMMARY:Day Block Brewing Beer Dinner
DESCRIPTION:We're very excited to announce our first beer dinner\, featurin
 g seven delicious courses each paired with a different Day Block Beer. Tic
 kets are available now\, but hurry\, seats are limited! Call or stop in to
  reserve your spot!\n\nOur chef and head brewer put together an incredibly
  creative and unique menu for you. While the beers will be available on ta
 p after the beer dinner\, none of the food options will be offered on our 
 menu - this is truly a special event.\n\nMenu and pairings can be found he
 re: https://dayblockbrewing.com/blog/beer-dinner
CATEGORIES:Beer Dinner
LOCATION:Day Block Brewing\, 1105 Washington Ave S\, Minneapolis\, MN\, 554
 15\, Downtown East\, United States
GEO:44.975208;-93.252899
X-APPLE-STRUCTURED-LOCATION;VALUE=URI;X-ADDRESS=1105 Washington Ave S\, Min
 neapolis\, MN\, 55415\, Downtown East\, United States;X-APPLE-RADIUS=100;X
 -TITLE=Day Block Brewing:geo:44.975208,-93.252899
END:VEVENT
END:VCALENDAR