BEGIN:VCALENDAR
VERSION:2.0
PRODID:-//wp-events-plugin.com//7.2.3.1//EN
BEGIN:VEVENT
UID:3262@mnbeer.com
DTSTART:20180909T000000Z
DTEND:20180909T040000Z
DTSTAMP:20180910T180717Z
URL:https://www.mnbeer.com/events/delano-band-blitz-ii/
SUMMARY:Delano Band Blitz II
DESCRIPTION:Band Blitz II is coming to Delano MN!\nSaturday\, September 8\n
 7 p.m. to 11 p.m.\,\nDelano Legion Parking Lot\, 200 Babcock Blvd W\, Dela
 no\, MN 55328\nBand Blitz II will raise money for the nationally-recognize
 d GreenCare for Troops program &amp\; the Delano American Legion Post 377.
 \nTwo bands with Delano connections will perform at the event.\nThe openin
 g act will be a new Delano band – West Highway. They will perform from 7
  to 8 p.m.\nThe headliner band will be Little Chicago\, which delighted la
 st year’s crowd with horn band golden oldies from the 1960s and 1970s. G
 uest performers with Little Chicago will be former members of the Delano R
 iver Band – Gary and Peg Janisch.\nDick Jonckowski\, long-time PA announ
 cer for University of Minnesota sports teams and state high school tournam
 ents\, will emcee this year’s event. Dick has delighted crowds for decad
 es across the U.S. and Canada with his unparalleled sense of humor and pos
 itive outlook on life.\nFood and refreshments will available for purchase\
 , featuring selections from Third Street Brewing Co.\, Cold Spring MN.\nTi
 ckets are $10.00 in advance or $15.00 at the gate.\nTickets are available 
 at Delano CorTrust Bank\, Delano American Legion &amp\; BandBlitz.net
ATTACH;FMTTYPE=image/jpeg:https://www.mnbeer.com/wp-content/uploads/Little
 -Chicago-Photo.jpg
CATEGORIES:Charity
LOCATION:Delano American Legion\, 200 Babcock Blvd W\, Delano\, MN\, 55328\
 , United States
GEO:45.0426177;-93.79176139999998
X-APPLE-STRUCTURED-LOCATION;VALUE=URI;X-ADDRESS=200 Babcock Blvd W\, Delano
 \, MN\, 55328\, United States;X-APPLE-RADIUS=100;X-TITLE=Delano American L
 egion:geo:45.0426177,-93.79176139999998
END:VEVENT
END:VCALENDAR