BEGIN:VCALENDAR
VERSION:2.0
PRODID:-//wp-events-plugin.com//7.2.3.1//EN
BEGIN:VEVENT
UID:3261@mnbeer.com
DTSTART:20180922T170000Z
DTEND:20180923T040000Z
DTSTAMP:20180822T134047Z
URL:https://www.mnbeer.com/events/delano-oktoberfest-2/
SUMMARY:Delano Oktoberfest
DESCRIPTION:Second Annual Delano Oktoberfest\nSaturday\, September 22\nNoon
 -11PM\nRiver Street N. &amp\; River Front Delano\n21+ $5.00 admission\, 20
  &amp\; under free\nFirst 500 paying adults receive a free 2018 Delano Okt
 oberfest Mug\nFull info delanomnoktoberfest.com\nThree Great Bands-Bavaria
 n Musikmeisters\, The Dale grove Band\, &amp\; The Joey Johnson Band\nS.G.
  Edelweiss Schuhplattlers\nFree Kids Activities\nSour Power Kraut Kontest-
 enter via website-delanomnoktoberfest.com\nStein Crafting-register via Del
 ano Oktoberfest Face Book page\nLupine Brewing Oktoberfest Beer\nDuetschla
 nd Meats Food Truck\nApfelstudel by St. Peter Lutheran\nMillner Heritage W
 ine &amp\; Cider\nNagelspielen\n7PM Keg Blessing &amp\; Tapping-Lupine Okt
 oberfest aged in a Dampfwerk Distillery Apple brandy Barrel\nOktoberfest M
 arkt
CATEGORIES:Festival
LOCATION:Lupine Brewing Co\, 248 River St\,. N\, Delano \, MN\, 55328\, Wri
 ght County\, United States
GEO:45.04277099999999;-93.7890198
X-APPLE-STRUCTURED-LOCATION;VALUE=URI;X-ADDRESS=248 River St\,. N\, Delano 
 \, MN\, 55328\, Wright County\, United States;X-APPLE-RADIUS=100;X-TITLE=L
 upine Brewing Co:geo:45.04277099999999,-93.7890198
END:VEVENT
END:VCALENDAR