BEGIN:VCALENDAR
VERSION:2.0
PRODID:-//wp-events-plugin.com//7.2.3.1//EN
BEGIN:VEVENT
UID:1109@mnbeer.com
DTSTART:20150219T200000Z
DTEND:20150219T220000Z
DTSTAMP:20150218T191155Z
URL:https://www.mnbeer.com/events/deschutes-brewery-tap-takeover/
SUMMARY:Deschutes Brewery Tap Takeover
DESCRIPTION:Deschutes Brewery Tap Takeover at Washington Square Bar &amp\; 
 Grill Thursday\, February 19 starting at 3:00pm!\n\n\nFeaturing: Limited R
 elease 2015 Jubel\, Fresh Squeeze IPA\, Black Butte Porter\, and Red Chair
  NWPA.\n\n \nPlus food and beer pairings with live music!\n
CATEGORIES:Bars/Restaurants
LOCATION:Washington Square Bar &amp\; Grill\, 4736 Washington Square\, Whit
 e Bear Lake \, Minnesota\, 55110\, United States
GEO:45.0845226;-93.0087001
X-APPLE-STRUCTURED-LOCATION;VALUE=URI;X-ADDRESS=4736 Washington Square\, Wh
 ite Bear Lake \, Minnesota\, 55110\, United States;X-APPLE-RADIUS=100;X-TI
 TLE=Washington Square Bar & Grill:geo:45.0845226,-93.0087001
END:VEVENT
END:VCALENDAR