BEGIN:VCALENDAR
VERSION:2.0
PRODID:-//wp-events-plugin.com//7.2.3.1//EN
BEGIN:VEVENT
UID:1055@mnbeer.com
DTSTART:20150312T230000Z
DTEND:20150313T010000Z
DTSTAMP:20150113T220426Z
URL:https://www.mnbeer.com/events/dinner-beer-with-brau-bros-brewmaster/
SUMMARY:Dinner &amp\; Beer with Brau Bros' Brewmaster
DESCRIPTION:Cheers to a dinner with Brau Brothers Brewmaster Dustin Brau! T
 his will not be just your average Thursday night in Rochester because Dust
 in Brau is coming to town and sharing the labor of his love in both sample
 s and tale of his brewery. A delicious meal will accompany the beers. Call
  the Lord Essex at 507.280.6200 or stop in today to reserve your tickets. 
CATEGORIES:Beer Dinner
LOCATION:Kahler Hotel - Lord Essex Fine Dining &amp\; Pub\, 20 2nd Avenue S
 outhwest\, Rochester\, MN\, 55902\, United States
GEO:44.0232749;-92.46569799999997
X-APPLE-STRUCTURED-LOCATION;VALUE=URI;X-ADDRESS=20 2nd Avenue Southwest\, R
 ochester\, MN\, 55902\, United States;X-APPLE-RADIUS=100;X-TITLE=Kahler Ho
 tel - Lord Essex Fine Dining & Pub:geo:44.0232749,-92.46569799999997
END:VEVENT
END:VCALENDAR