BEGIN:VCALENDAR
VERSION:2.0
PRODID:-//wp-events-plugin.com//7.2.3.1//EN
BEGIN:VEVENT
UID:1166@mnbeer.com
DTSTART:20150331T220000Z
DTEND:20150404T030000Z
DTSTAMP:20150326T064559Z
URL:https://www.mnbeer.com/events/door-county-brewing-co-minnesota-launch/
SUMMARY:Door County Brewing Co. Minnesota Launch
DESCRIPTION:Door County Brewing Company is thrilled to announce our launch 
 in Minnesota. We recognize your high standards of great beer\; we applaud 
 your own breweries and look forward to joining such a great market on Marc
 h 31. \n\n“Minnesota has always taken great pride in its beer\,” said 
 Door County Brewing Co. Founder John McMahon. “Which is why it was the o
 bvious choice for our next move with the brand.”\n\nInspired by our frie
 nds\, our families and our landscape\, Door County Brewing Co. was founded
  on local heritage. Thoughtfully handcrafted\, never pretentious and alway
 s local\, our mission is to create beers that lead to a gathering of commu
 nity and friends wherever you are. \n\nUntil now\, Door County Brewing Co.
  beer has only been available is Wisconsin\, and there is no mistake about
  bringing it to Minnesota next. “The Twin Cities is a great craft beer m
 arket\,” said Head Brewer Danny McMahon. “They’ve got plenty of grea
 t local breweries making great beer\, so people know what good beer should
  be.”\n\nA long time resident of the Twin Cities during school\, Danny M
 cMahon is excited to enter Minnesota for a number of reasons\, but most of
  all to share his creations. “I’ve got a lot of friends that have been
  interested in our beer that haven’t really been able to get our beer ye
 t. I’m excited and happy that they’ll be able to get our beer now with
 out having to make the trip all the way to Door County.” \n\nBringing th
 e classics\, our The Polka King Porter\, Little Sister Witbier\, Pastoral 
 Farmhouse Ale\, Biere de Seigle and Silurian Stout will be available at a 
 Minnesota retailer near you April 1. In addition to our first five\, Door 
 County Brewing Co. is thrilled to announce our newest addition Bare Bottom
  Madness Pale Ale will be on released May 5 at a retailer near you.\n\nTo 
 celebrate this exciting news we have two launch parties for you! Join Foun
 der John McMahon and Head Brewer Danny McMahon in Golden Valley at the New
  Bohemia American Beer Hall Tuesday\, March 31 at 5pm for a tasting of our
  Polka King\, Pastoral\, Biere de Seigle\, and a special Svart Vinter. \n\
 nThen join the guys in Duluth at Grizzly’s Woodfired Grill Friday\, Apri
 l 3 at 4pm for a sampling of Door County Brewing Co. beer\, merchandise\, 
 giveaways and more. So come by\, celebrate with us and savor the flavor of
  Door County Brewing Co.\, now available in Minnesota.\n
ATTACH;FMTTYPE=image/jpeg:https://www.mnbeer.com/wp-content/uploads/DCBC-M
 NPoster.jpg
CATEGORIES:Release
LOCATION:Golden Valley New Bohemia\, 8040 Olson Memorial Hwy\, Golden Valle
 y\, MN\, 55427\, United States
GEO:44.98513550000001;-93.3833454
X-APPLE-STRUCTURED-LOCATION;VALUE=URI;X-ADDRESS=8040 Olson Memorial Hwy\, G
 olden Valley\, MN\, 55427\, United States;X-APPLE-RADIUS=100;X-TITLE=Golde
 n Valley New Bohemia:geo:44.98513550000001,-93.3833454
END:VEVENT
END:VCALENDAR