BEGIN:VCALENDAR
VERSION:2.0
PRODID:-//wp-events-plugin.com//7.2.3.1//EN
BEGIN:VEVENT
UID:973@mnbeer.com
DTSTART:20141213T190000Z
DTEND:20141213T190000Z
DTSTAMP:20141211T073726Z
URL:https://www.mnbeer.com/events/double-porter-release/
SUMMARY:Double Porter Release
DESCRIPTION:Bemidji Brewing will be releasing their first 750ml bottle rele
 ase this Saturday at the brewery. Stop in and grab one of these 750ml doub
 le porters and warm up with a great treat from Bemidji Brewing!
ATTACH;FMTTYPE=image/jpeg:https://www.mnbeer.com/wp-content/uploads/double
 porter-e1418283259566.jpg
CATEGORIES:Beer Release
LOCATION:Bemidji Brewing Co.\, 401 Beltrami Avenue NW\, Bemidji\, MN\, Unit
 ed States
GEO:47.471592;-94.881165
X-APPLE-STRUCTURED-LOCATION;VALUE=URI;X-ADDRESS=401 Beltrami Avenue NW\, Be
 midji\, MN\, United States;X-APPLE-RADIUS=100;X-TITLE=Bemidji Brewing Co.:
 geo:47.471592,-94.881165
END:VEVENT
END:VCALENDAR