BEGIN:VCALENDAR
VERSION:2.0
PRODID:-//wp-events-plugin.com//7.2.3.1//EN
BEGIN:VEVENT
UID:744@mnbeer.com
DTSTART:20140913T200000Z
DTEND:20140914T040000Z
DTSTAMP:20140709T022727Z
URL:https://www.mnbeer.com/events/down-in-the-valley-craft-beer-and-music-
 festival/
SUMMARY:Down in the Valley Craft Beer and Music Festival
DESCRIPTION:Chop Liver Craft Beer Festivals and the Vetter Stone Amphitheat
 er are bringing a taste of the Mankato Craft Beer Expo to Riverfront Park 
 on September 13\, combining some amazing craft beers with eight hours of g
 reat music\, featuring the national Americana rock band The Wood Brothers\
 , along with some of the best Minnesota bands out there today!\n\nAttendee
 s will have the opportunity to sample great beers from 20+ craft breweries
  from across the country. The craft beer sampling portion of the event wil
 l go from 3-6pm\, at which point the show will be open to all ages. Severa
 l food trucks from the Twin Cities will offer attendees a wide variety of 
 culinary genius\, which paired with craft beer and music\, offers up the u
 ltimate experience at the Down in the Valley Brewfest!\n\nIn addition to T
 he Wood Brothers\, the stage at the Vetter Stone Amphitheater will feature
  4 On The Floor\, The White Iron Band\, American Scarecrows\, Kind Country
  and The Last Revel.
CATEGORIES:Beer Festival,Music
LOCATION:Riverfront Park\, 310 Rock Street\, Mankato\, Minnesota\, 56001\, 
 United States
GEO:44.17445824706622;-94.00027312543943
X-APPLE-STRUCTURED-LOCATION;VALUE=URI;X-ADDRESS=310 Rock Street\, Mankato\,
  Minnesota\, 56001\, United States;X-APPLE-RADIUS=100;X-TITLE=Riverfront P
 ark:geo:44.17445824706622,-94.00027312543943
END:VEVENT
END:VCALENDAR