BEGIN:VCALENDAR
VERSION:2.0
PRODID:-//wp-events-plugin.com//7.2.3.1//EN
BEGIN:VEVENT
UID:1101@mnbeer.com
DTSTART:20150225T210000Z
DTEND:20150226T010000Z
DTSTAMP:20150218T191205Z
URL:https://www.mnbeer.com/events/dragons-milk-reserve-tapping/
SUMMARY:Dragon's Milk Reserve Tapping
DESCRIPTION:We will be tapping New Holland Dragon's Milk Reserve with Raspb
 erries.  Local raspberries were added to the barrels in the final stages o
 f conditioning. Raspberries lend depth\, brightness and unique fruit chara
 cter.\n\nWe will also be featuring New Holland Dragon's Milk\, and The Poe
 t.
CATEGORIES:Beer Release
LOCATION:The Happy Gnome\, 498 Selby Avenue\, St. Paul\, MN\, United States
GEO:44.946408;-93.12093649999997
X-APPLE-STRUCTURED-LOCATION;VALUE=URI;X-ADDRESS=498 Selby Avenue\, St. Paul
 \, MN\, United States;X-APPLE-RADIUS=100;X-TITLE=The Happy Gnome:geo:44.94
 6408,-93.12093649999997
END:VEVENT
END:VCALENDAR