BEGIN:VCALENDAR
VERSION:2.0
PRODID:-//wp-events-plugin.com//7.2.3.1//EN
BEGIN:VEVENT
UID:746@mnbeer.com
DTSTART:20140725T050000Z
DTEND:20140726T033000Z
DTSTAMP:20140711T031147Z
URL:https://www.mnbeer.com/events/duluth-debut-of-crafted-to-last-minnesot
 a-beer-blossoms/
SUMMARY:Duluth Debut of Crafted to Last Minnesota Beer Blossoms
DESCRIPTION:The Duluth Debut of Crafted to Last - Minnesota Beer Blossoms i
 s your first chance to see this independently produced documentary in the 
 birth place of the  Northshore Style. The film was shot on location at 16 
 breweries across the state and around the corner from January 2012 until l
 ast week. It features 2 great Duluth brew pubs - Fitger's and Carmody Iris
 h Pub. Tickets are $10 at the Zinema 2 Box office and online. Excellent wa
 y to get primed for the All Pints North festival the next day. 
ATTACH;FMTTYPE=image/jpeg:https://www.mnbeer.com/wp-content/uploads/CTL_Lo
 go_FBProfile.jpg
CATEGORIES:Art
LOCATION:The Zinema 2\, 222 E Superior St\, Duluth\, MN\, 55802\, United St
 ates
GEO:46.78930400000001;-92.09459600000002
X-APPLE-STRUCTURED-LOCATION;VALUE=URI;X-ADDRESS=222 E Superior St\, Duluth\
 , MN\, 55802\, United States;X-APPLE-RADIUS=100;X-TITLE=The Zinema 2:geo:4
 6.78930400000001,-92.09459600000002
END:VEVENT
END:VCALENDAR