BEGIN:VCALENDAR
VERSION:2.0
PRODID:-//wp-events-plugin.com//7.2.3.1//EN
BEGIN:VEVENT
UID:1067@mnbeer.com
DTSTART:20150206T050000Z
DTEND:20150207T013000Z
DTSTAMP:20150129T223612Z
URL:https://www.mnbeer.com/events/enki-beer-dinner-at-blue-point-restauran
 t-bloomington/
SUMMARY:ENKI Beer Dinner at Blue Point Restaurant (Bloomington)
DESCRIPTION:ENKI Beer Dinner \nFriday\, February 6 \n6:30pm $45/person\n\nJ
 oin us for four courses of fantastic Blue Point tasting plates\, perfectly
  paired with a variety of locally crafted beers (by ENKI Brewing\, Victori
 a\, MN). \n\nTasting Menu :\nCorvina Ceviche &amp\; Auburn Kolsch\nBlood o
 range-kolsch marinade\, roasted red bell and poblano peppers\, cilantro\, 
 radish\n\nScallop and Mussel &amp\;Tailfeather IPA\nSmoked shrimp and cran
 berry compote\, seared scallop\, crispy pancetta\, Tailfeather-braised PEI
  mussel\n\nHomemade Victoria Gold Sorbet (palate cleanser)\n\nSpare Rib &a
 mp\; Warming Hut Brown Ale\nWarming Hut-Asian BBQ sauce\, sesame\, jicama 
 slaw\n\nDense Fudge Cake &amp\; Cacao Porter\nChocolate cherry porter glaz
 e\n\nBring a date\, a group of friends\, or treat yourself to an evening o
 f food and craft beer. Cheers! \n\nTo reserve your seat\, call (952) 767-9
 711.
ATTACH;FMTTYPE=image/jpeg:https://www.mnbeer.com/wp-content/uploads/109299
 27_794253957330186_1549847619311903227_n.jpg
CATEGORIES:Beer Dinner
LOCATION:Blue Point Restaurant\, 4400 West 78th Street\, Bloomingon\, Minne
 sota\, 55435\, United States
GEO:44.8594281;-93.33593309999998
X-APPLE-STRUCTURED-LOCATION;VALUE=URI;X-ADDRESS=4400 West 78th Street\, Blo
 omingon\, Minnesota\, 55435\, United States;X-APPLE-RADIUS=100;X-TITLE=Blu
 e Point Restaurant:geo:44.8594281,-93.33593309999998
END:VEVENT
END:VCALENDAR