BEGIN:VCALENDAR
VERSION:2.0
PRODID:-//wp-events-plugin.com//7.2.3.1//EN
BEGIN:VEVENT
UID:3423@mnbeer.com
DTSTART:20190216T120000Z
DTEND:20190217T000000Z
DTSTAMP:20190123T192530Z
URL:https://www.mnbeer.com/events/enki-block-rocking-bock-fest/
SUMMARY:ENKI Block Rocking Bock Fest
DESCRIPTION:We're celebrating the first Bock we've ever brewed (and it's a 
 darn good one) and that spring is around the corner (hopefully) with a par
 ty in our brand new event space! We'll have live music\, German Food\, Led
 erhosen and Dirndl Contest\, and great Bock Lager. More info to come\, but
  make sure to save the date!\n\nhttps://www.facebook.com/events/1296900960
 449512/
LOCATION:ENKI Brewing\, 7929 Victoria Dr\, Victoria\, MN\, United States
GEO:44.8598037;-93.66155449999997
X-APPLE-STRUCTURED-LOCATION;VALUE=URI;X-ADDRESS=7929 Victoria Dr\, Victoria
 \, MN\, United States;X-APPLE-RADIUS=100;X-TITLE=ENKI Brewing:geo:44.85980
 37,-93.66155449999997
END:VEVENT
END:VCALENDAR