BEGIN:VCALENDAR
VERSION:2.0
PRODID:-//wp-events-plugin.com//7.2.3.1//EN
BEGIN:VEVENT
UID:1838@mnbeer.com
DTSTART:20160618T220000Z
DTEND:20160619T040000Z
DTSTAMP:20160606T163316Z
URL:https://www.mnbeer.com/events/fathers-day-eve-at-surlys-brewers-table/
SUMMARY:FATHER'S DAY EVE AT SURLY'S BREWER'S TABLE
DESCRIPTION:On Saturday June\, 18 we’re throwing a bash for all the Dads 
 with a special\, six-course tasting menu at Brewer’s Table. Check out th
 e menu below\, tell your Pop to go iron his favorite Surly t-shirt and boo
 k a table for him here: \n\nhttp://surlybrewing.com/destination-brewery/br
 ewers-table/reservations/\n\nWHAT: Father’s Day Eve at Brewer’s Table\
 n\nWHEN: Saturday\, 6/18\n\nWHERE: Brewer’s Table\, 520 Malcolm Avenue S
 E\, Minneapolis\, MN\n\nMENU:\n\nFirst dish: Oyster Shooter\, with Fiery H
 ell\, pickled celery and fire-roasted tomato\n\nSecond dish: Shrimp n’ G
 rits with Texas gulf shrimp and creole sauce\n\nThird dish: Pit-roasted Po
 rk Jowl\, with Mac ‘n cheese fritters and green tomato chow-chow\n\nFour
 th dish: St. Louis-style Spare Ribs\, with chili-spiked foie gras\, tobacc
 o peach glaze and poblano cornbread stuffing\n\nFifth dish: Smoked Brisket
 \, with potato pave\, green onion slaw and sweet &amp\; smoky BBQ sauce\n\
 nSixth dish: Banana cream pie\, with whipped cream and vanilla wafers\n\nR
 ESERVATIONS: Please make your reservation by calling the restaurant direct
 ly at 763.999.6526 or online at: \n\nhttp://surlybrewing.com/destination-b
 rewery/brewers-table/reservations/
ATTACH;FMTTYPE=image/jpeg:https://www.mnbeer.com/wp-content/uploads/DAD.jp
 g
CATEGORIES:Beer Dinner
LOCATION:Surly Brewing Co. (Mpls.)\, 520 Malcolm Avenue Southeast\, Minneap
 olis\, MN\, United States
GEO:42.26875030000001;-89.08666389999996
X-APPLE-STRUCTURED-LOCATION;VALUE=URI;X-ADDRESS=520 Malcolm Avenue Southeas
 t\, Minneapolis\, MN\, United States;X-APPLE-RADIUS=100;X-TITLE=Surly Brew
 ing Co. (Mpls.):geo:42.26875030000001,-89.08666389999996
END:VEVENT
END:VCALENDAR