BEGIN:VCALENDAR
VERSION:2.0
PRODID:-//wp-events-plugin.com//7.2.3.1//EN
BEGIN:VEVENT
UID:761@mnbeer.com
DTSTART:20140801T160000Z
DTEND:20140804T030000Z
DTSTAMP:20140715T202720Z
URL:https://www.mnbeer.com/events/festa-italiana-mn/
SUMMARY:Festa Italiana MN
DESCRIPTION:Festa Italiana MN began its huge endeavor to produce a Festival
  that celebrates the vibrant culture of Italy and the fascinating story of
  Italian Americans in Minnesota. We want to preserve our rich Italian heri
 tage and share it with Minnesotans of all ethnic backgrounds. Join us this
  year at Island Lake Park in Shoreview\, MN on August 1-3. Free admission!
 Festa Italiana MN began its huge endeavor to produce a Festival that celeb
 rates the vibrant culture of Italy and the fascinating story of Italian Am
 ericans in Minnesota. We want to preserve our rich Italian heritage and sh
 are it with Minnesotans of all ethnic backgrounds. Join us this year at Is
 land Lake Park in Shoreview\, MN on August 1-3. Free admission!\nHours:\nF
 riday 11am-10pm\nSaturday 10am-10pm\nSunday 10am-6pm\nContact info:\ninfo@
 festaitalianamn.org\n651.765.1813
ATTACH;FMTTYPE=image/jpeg:https://www.mnbeer.com/wp-content/uploads/547539
 _386949911354536_1046170390_n.jpg
CATEGORIES:Festival
LOCATION:Island Lake County Park\, 3611 North Victoria Street\, Shoreview\,
  MN\, 55126\, United States
GEO:45.053181;-93.132541
X-APPLE-STRUCTURED-LOCATION;VALUE=URI;X-ADDRESS=3611 North Victoria Street\
 , Shoreview\, MN\, 55126\, United States;X-APPLE-RADIUS=100;X-TITLE=Island
  Lake County Park:geo:45.053181,-93.132541
END:VEVENT
END:VCALENDAR