BEGIN:VCALENDAR
VERSION:2.0
PRODID:-//wp-events-plugin.com//7.2.3.1//EN
BEGIN:VEVENT
UID:3303@mnbeer.com
DTSTART:20181218T220000Z
DTEND:20181219T030000Z
DTSTAMP:20181204T054308Z
URL:https://www.mnbeer.com/events/festivus-holiday-gathering/
SUMMARY:Festivus Holiday Gathering
DESCRIPTION:Town Hall Brewery will host its annual holiday Festivus gatheri
 ng\, 5-10 p.m. Tuesday\, December 18. Enjoy complimentary mulled wine and 
 spiked hot cider around our outdoor bonfire and the traditional aluminum F
 estivus pole. Air your grievances for $1\, which includes one spin of the 
 prize wheel. Town Hall donates the money to Fairview Riverside Children’
 s Hospital\, and with each spin of the wheel guests get a chance to win fa
 ntastic prizes including Town Hall products and merchandise. \n\nTown Hall
  Brewery is located at 1430 S Washington Ave\, Minneapolis\, MN 55454. \n
CATEGORIES:Bars/Restaurants,Beer Dinner,Breweries
LOCATION:Minneapolis Town Hall Brewery\, 1430 Washington Avenue South\, Min
 neapolis\, MN\, United States
GEO:44.9733315;-93.24778570000001
X-APPLE-STRUCTURED-LOCATION;VALUE=URI;X-ADDRESS=1430 Washington Avenue Sout
 h\, Minneapolis\, MN\, United States;X-APPLE-RADIUS=100;X-TITLE=Minneapoli
 s Town Hall Brewery:geo:44.9733315,-93.24778570000001
END:VEVENT
END:VCALENDAR