BEGIN:VCALENDAR
VERSION:2.0
PRODID:-//wp-events-plugin.com//7.2.3.1//EN
BEGIN:VEVENT
UID:718@mnbeer.com
DTSTART;VALUE=DATE:20140602
DTEND;VALUE=DATE:20140608
DTSTAMP:20140527T184520Z
URL:https://www.mnbeer.com/events/finchs-beer-co-to-enter-minnesota/
SUMMARY:Finch's Beer Co to Enter Minnesota
DESCRIPTION:The Chicago based brewery\, Finch’s Beer Co.\, will be hittin
 g the MN market with a  list of events starting on Monday\, June\, 2nd. Yo
 u will be able to find Finch’s on tap at many local restaurants and bars
  and pick up a 4pk of their 16oz cans at your favorite liquor store.\n \n
 “Part of how we evaluate markets relies heavily on the can presence and 
 the quality of the beer in the market. We’re incredibly excited to be in
  the Minnesota market for both of those reasons\, and being one of the fir
 st Chicago breweries to take beer to Minnesota will be very cool. Artisan 
 Beer Company represents incredible brands and we’re excited to be consid
 ered among such an elite group.” – Benjamin Finch\n \nAbout Finch’s 
 Beer Co.\n \nSince production began in April 2011\, Finch’s Beer Co. has
  been committed to artfully brewing quality craft beer in Chicago. Highly 
 regarded for using the best ingredients in an environmentally responsible 
 setting\, Finch’s is led by five core beers: Golden Wing Blonde Ale\, Cu
 tthroat Pale Ale\, Threadless IPA\, Secret Stache Stout\, and Fascist Pig 
 Ale. These styles\, as well as limited-edition specialties\, add to an eve
 r-growing list of unique beers. With an expanded facility established in 2
 013 and plans for a new brewery and tasting room by 2016\, Finch’s is on
  pace to be one of the largest microbreweries in the Midwest. For more inf
 ormation\, please visit Facebook.com/FinchBeer and Twitter.com/FinchBeer. 
 Finch’s Beer Co. is located at 4565 N. Elston Ave. and can be reached at
  773-283-4839.\n \n \n \nMonday\, June 2nd\n \nTown Hall Brewery\, Minneap
 olis @ 5pm\n \nFascist Pig\, Wet Hot American Wheat\, and Secret Stache St
 out on tap.\n \n \n \nTown Hall Tap\, Minneapolis\n \nTapping a firkin of 
 Wet Hot American Wheat conditioned on Cascade hops.\n \n \n \nTuesday\, Ju
 ne 3rd \n \nSea Salt Eatery\, Minneapolis @ 5pm\n \nThreadless IPA\, Fasci
 st Pig\, Secret Stache Stout\, and Wet Hot American Wheat on tap.\n \n \n 
 \nWednesday\, June 4th\n \nThe Muddy Pig\, St Paul @ 5pm\n \nThreadless IP
 A\, Fascist Pig\, Secret Stache Stout\, and Wet Hot American Wheat on tap.
 \n \nGiving away tickets to St Paul Summer Beer Fest\n \n \n \nThursday\, 
 June 5th\n \nBilly’s on Grand\, St Paul @ 4pm\n \nWet Hot American Wheat
 \, Fascist Pig\, and Secret Stache Stout on tap.\n \nThreadless IPA cans o
 n the patio\n \nLast chance to win tickets to St Paul Summer Beer Fest\n \
 n \n \nFriday\, June 6th\n \nGrumpy’s Bar and Grill\, Downtown Mpls @ 12
 pm\n \nFeaturing both draft and can options of Finch’s and a firkin of W
 et Hot American Wheat conditioned on Hallertau Blanc hops.\n \n \n \nGrump
 y’s Bar\, NE Mpls @ 4pm\n \nFeaturing both draft and can options of Finc
 h’s and a firkin of Wet Hot American Wheat conditioned on Simcoe\, Casca
 de\, and Galaxy hops.\n \n \n \nSaturday\, June 7th\n \nSt Paul Summer Bee
 r Fest\, MN State Fairgrounds International Bazaar\, 1-6pm\n \nFeaturing T
 hreadless IPA\, Wet Hot American Wheat\, Fascist Pig\, Secret Stache Stout
 \, and Sobek &amp\; Set.\n \n \n \nLiquor Store Tastings\n \nThe Liquor St
 ore &amp\; More\, Hopkins – May 30th\, 4pm\n \nLiquor Boy\, St Louis Par
 k – May 30th\, 4-6pm\n \nThe Wine Thief and Ale Jail\, St Paul – June 
 4th\, 4-6:30pm\n \nBlue Max Liquors\, Burnsville – June 5th 4:30-6:30pm\
 n \nSouth Lyndale Liquors\, Minneapolis – June 6th\, 4-6:30pm\n \nLake W
 ine and Cheese\, Minneapolis – June 6th\, 4:30-6:30pm\n \nLiquor Barrel\
 , St Louis Park – June 6th\, 4pm\n \nStinson Wine &amp\; Spirits\, Minne
 apolis – June 10th\, 4-7pm\n \nFrance 44 Wines &amp\; Spirits\, Minneapo
 lis – June 13th\, 4-6:30pm\n \nCellars Wines &amp\; Spirits\, Roseville 
 – June 20th\, 4-6:30pm\n
ATTACH;FMTTYPE=image/jpeg:https://www.mnbeer.com/wp-content/uploads/finch-
 logo.png
CATEGORIES:Bars/Restaurants,Beer Festival,Beer Release,Cask
 Beer,Misc.,Release,Tasting
END:VEVENT
END:VCALENDAR