BEGIN:VCALENDAR
VERSION:2.0
PRODID:-//wp-events-plugin.com//7.2.3.1//EN
BEGIN:VEVENT
UID:3234@mnbeer.com
DTSTART:20180726T170000Z
DTEND:20180726T230000Z
DTSTAMP:20180607T133919Z
URL:https://www.mnbeer.com/events/fine-spirits-classic/
SUMMARY:Fine Spirits Classic
DESCRIPTION:Join us Thursday\, July 26\, 2018\, at Minnesota Orchestra Hall
  for the 7th annual Fine Spirits Classics! Sample new brands and spirits f
 rom around the world\, while enjoying gourmet fare and gathering new cockt
 ail recipes. Your General Admission ticket includes your tasting glass\, g
 ourmet bites and endless sips from 6:30-9 p.m.. For only $10 more\, VIP ea
 rly admission includes the excitement of general admission\, but gives you
  access to the fun at 5:30\, as well as a VIP gift bag and specialty cockt
 ail. However\, if it’s your turn to be the designated driver\, have no f
 ear\, because for only $10 you can enjoy the divine food and non-alcoholic
  drinks\, as well as pat yourself on the back for getting your friends hom
 e safely! Don’t miss out on this highly interactive event with many of t
 he Twin Cities top mixologists and national/local distillers.
ATTACH;FMTTYPE=image/jpeg:https://www.mnbeer.com/wp-content/uploads/fsc-no
 -year_300.png
CATEGORIES:Beer Festival,Tasting
LOCATION:Minnesota Orchestra Hall\, 1111 Nicollet Mall\, Minneapolis\, Minn
 esota\, United States
GEO:44.9722717;-93.27484270000002
X-APPLE-STRUCTURED-LOCATION;VALUE=URI;X-ADDRESS=1111 Nicollet Mall\, Minnea
 polis\, Minnesota\, United States;X-APPLE-RADIUS=100;X-TITLE=Minnesota Orc
 hestra Hall:geo:44.9722717,-93.27484270000002
END:VEVENT
END:VCALENDAR