BEGIN:VCALENDAR
VERSION:2.0
PRODID:-//wp-events-plugin.com//7.2.3.1//EN
BEGIN:VEVENT
UID:1901@mnbeer.com
DTSTART:20160716T003000Z
DTEND:20160716T030000Z
DTSTAMP:20160711T043541Z
URL:https://www.mnbeer.com/events/fins-flights-2/
SUMMARY:Fins &amp\; Flights
DESCRIPTION:Dive into a beer event unlike any other! Sample beer from local
  breweries while you come within inches of sharks\, sea turtles\, jellyfis
 h and more. \n\nA portion of proceeds from this event will go to the Georg
 ia Sea Turtle Center to create more tanks to house rescued sea turtles.\n 
 \nTickets available at www.finsandflights.com
ATTACH;FMTTYPE=image/jpeg:https://www.mnbeer.com/wp-content/uploads/FF-600
 x314.jpg
CATEGORIES:Tasting
LOCATION:SEA LIFE Minnesota Aquarium\, 120 E Broadway\, Bloomington\, MN\, 
 55425\, United States
GEO:44.8547929;-93.24004149999996
X-APPLE-STRUCTURED-LOCATION;VALUE=URI;X-ADDRESS=120 E Broadway\, Bloomingto
 n\, MN\, 55425\, United States;X-APPLE-RADIUS=100;X-TITLE=SEA LIFE Minneso
 ta Aquarium:geo:44.8547929,-93.24004149999996
END:VEVENT
END:VCALENDAR