BEGIN:VCALENDAR
VERSION:2.0
PRODID:-//wp-events-plugin.com//7.2.3.1//EN
BEGIN:VEVENT
UID:3280@mnbeer.com
DTSTART:20181103T010000Z
DTEND:20181103T030000Z
DTSTAMP:20181012T211932Z
URL:https://www.mnbeer.com/events/fins-flights-beer-tasting/
SUMMARY:Fins &amp\; Flights Beer Tasting
DESCRIPTION:Ready to dive in to Minnesota’s most unique\, underwater beer
  event?\nJoin us Friday\, November 2nd from 8PM – 10PM and explore the f
 ishes with bubbling brews! Fins &amp\; Flights is a unique beer tasting ev
 ent that lets you get event CLOSER to sharks\, jellyfish and more at SEA L
 IFE aquarium at Mall of America – all after hours. You’ll get to enjoy
  the aquarium to while enjoying beer from Minnesota’s top local brewerie
 s\, assemble your own pretzel necklace and explore the aquarium after the 
 lights go out. Learn more and purchase tickets online at FinsandFlights.co
 m. (This event is for guests 21 and over only.)\n
CATEGORIES:Beer Festival,Breweries,pub crawl,Tasting
LOCATION:SEA LIFE at Mall of America\, 120 E Broadway\, Bloomington\, Minne
 sota\, 55425\, United States
GEO:44.8547929;-93.24004149999996
X-APPLE-STRUCTURED-LOCATION;VALUE=URI;X-ADDRESS=120 E Broadway\, Bloomingto
 n\, Minnesota\, 55425\, United States;X-APPLE-RADIUS=100;X-TITLE=SEA LIFE 
 at Mall of America:geo:44.8547929,-93.24004149999996
END:VEVENT
END:VCALENDAR