BEGIN:VCALENDAR
VERSION:2.0
PRODID:-//wp-events-plugin.com//7.2.3.1//EN
BEGIN:VEVENT
UID:675@mnbeer.com
DTSTART:20140524T180000Z
DTEND:20140524T220000Z
DTSTAMP:20140509T164421Z
URL:https://www.mnbeer.com/events/firkin-mayfest/
SUMMARY:Firkin Mayfest
DESCRIPTION:Craft and Cask beer festival. All you can drink from 1-6pm\, $2
 0 wristband. Food and music. Firkin casks and kegs from Big Wood Brewery\,
  Lift Bridge Brewery\, Hammerheart Brewery\, Bells Brewery\, Rush River\, 
 Schell's\, and many more. Over 20 beers to enjoy.  Tickets and more info a
 t:\nHttp://www.roman-market.com/firkin
CATEGORIES:Beer Festival
LOCATION:Roma Restaurant\, 460 Stillwater Road\, Willernie\, MN/Washington 
 \, 55090\, White Bear Lake\, United States
GEO:45.057355;-92.95574490000001
X-APPLE-STRUCTURED-LOCATION;VALUE=URI;X-ADDRESS=460 Stillwater Road\, Wille
 rnie\, MN/Washington \, 55090\, White Bear Lake\, United States;X-APPLE-RA
 DIUS=100;X-TITLE=Roma Restaurant:geo:45.057355,-92.95574490000001
END:VEVENT
END:VCALENDAR