BEGIN:VCALENDAR
VERSION:2.0
PRODID:-//wp-events-plugin.com//7.2.3.1//EN
BEGIN:VEVENT
UID:3300@mnbeer.com
DTSTART:20190303T180000Z
DTEND:20190303T220000Z
DTSTAMP:20181204T054528Z
URL:https://www.mnbeer.com/events/food-wine-experience-2/
SUMMARY:Food &amp\; Wine Experience
DESCRIPTION:Join Minnesota Monthly for the 25th Annual Food &amp\; Wine Exp
 erience at Target Field! With a unique variety of local\, regional and nat
 ional wines\, mouth-watering food from award-winning culinarians like\, an
 d  delicious beers and spirits\, there are endless experiences to be had a
 t the most delicious weekend of the year. The event takes place Saturday\,
  March 2nd &amp\; Sunday\, March 3rd\, from 1-5. Tickets can be purchased 
 at www.FoodWineExperience.com.
ATTACH;FMTTYPE=image/jpeg:https://www.mnbeer.com/wp-content/uploads/1-2.jp
 g
CATEGORIES:Foodie
LOCATION:Target Field\, 1 Twins Way\, Minneapolis\, Minnesota\, 55403\, Uni
 ted States
GEO:44.9817656;-93.277514
X-APPLE-STRUCTURED-LOCATION;VALUE=URI;X-ADDRESS=1 Twins Way\, Minneapolis\,
  Minnesota\, 55403\, United States;X-APPLE-RADIUS=100;X-TITLE=Target Field
 :geo:44.9817656,-93.277514
END:VEVENT
END:VCALENDAR