BEGIN:VCALENDAR
VERSION:2.0
PRODID:-//wp-events-plugin.com//7.2.3.1//EN
BEGIN:VEVENT
UID:975@mnbeer.com
DTSTART:20141211T233000Z
DTEND:20141211T233000Z
DTSTAMP:20141211T091001Z
URL:https://www.mnbeer.com/events/founders-beer-dinner/
SUMMARY:Founder’s Beer Dinner
DESCRIPTION:$50\n\nMcCoy’s and Founders have matched some big\, beefy bee
 rs with equally tasty bites from the kitchen. Sip on Founders’ latest\, 
 Dark Penance\, an imperial black IPA and enjoy culinary delights from Bria
 n and Nate. Look for Backwoods Bastard and other tasty Founders offerings 
 as well.
LOCATION:McCoy's Public House\, 3801 Grand Way\, St Louis Park\, MN\, 55416
 \, United States
GEO:44.93419859999999;-93.33998659999997
X-APPLE-STRUCTURED-LOCATION;VALUE=URI;X-ADDRESS=3801 Grand Way\, St Louis P
 ark\, MN\, 55416\, United States;X-APPLE-RADIUS=100;X-TITLE=McCoy's Public
  House:geo:44.93419859999999,-93.33998659999997
END:VEVENT
END:VCALENDAR