BEGIN:VCALENDAR
VERSION:2.0
PRODID:-//wp-events-plugin.com//7.2.3.1//EN
BEGIN:VEVENT
UID:1001@mnbeer.com
DTSTART:20150108T050000Z
DTEND:20150108T050000Z
DTSTAMP:20150103T053434Z
URL:https://www.mnbeer.com/events/founders-invasion-cbs-release/
SUMMARY:Founders Invasion - CBS Release
DESCRIPTION:January 8th we will be tapping eight of Founders highly rated b
 eers:\n\nCanadian Breakfast Stout (CBS)\nBig Lushious\nBlack Rye\nHarvest 
 Ale\nDouble Trouble\nImperial Stout\nRubeaus\nCurmudgeon\n\nBecause CBS is
  so rare\, we want to make sure as many people get a taste as possible so 
 it will be available in SAMPLER ONLY but there will be no limit on sampler
 s. \n\nWe will have a food flight showcasing our delicious smoked meats an
 d you'll want to save room for dessert because we will have our homemade c
 heesecake topped with Big Lushious syrup and fresh raspberries.\n\nDon't m
 iss out on these amazing beers!
ATTACH;FMTTYPE=image/jpeg:https://www.mnbeer.com/wp-content/uploads/cbs_75
 0ml_clean.jpg
CATEGORIES:Bars/Restaurants,Beer
 Release,Breweries,Foodie,Pairing,Release,Tasting
LOCATION:Grizzlys Wood Fired Grill\, 220 Carlson Pkwy N\, Plymouth \, MN\, 
 55427\, United States
GEO:44.9810557;-93.4614444
X-APPLE-STRUCTURED-LOCATION;VALUE=URI;X-ADDRESS=220 Carlson Pkwy N\, Plymou
 th \, MN\, 55427\, United States;X-APPLE-RADIUS=100;X-TITLE=Grizzlys Wood 
 Fired Grill:geo:44.9810557,-93.4614444
END:VEVENT
END:VCALENDAR