BEGIN:VCALENDAR
VERSION:2.0
PRODID:-//wp-events-plugin.com//7.2.3.1//EN
BEGIN:VEVENT
UID:712@mnbeer.com
DTSTART:20140614T180000Z
DTEND:20140614T200000Z
DTSTAMP:20140527T195253Z
URL:https://www.mnbeer.com/events/france44-customer-appreciation-tasting-5
 /
SUMMARY:France44 Customer Appreciation Tasting
DESCRIPTION:Starting May 31st\, we’re going to host a series of FREE Satu
 rday customer appreciation tastings. Each Saturday we’ll feature an SUPE
 R tasty beer for you to sample. For FREE! We'll have plenty\, but supplies
  will be limited. And just because we’re sampling it\, doesn’t mean we
  have bottles to sell.\nJune 14th we have Fulton Brewery sampling out the 
 Fulton/France44 collaboration 3711 Rue Bourbon Farmhouse Stout\, made in o
 ur France44 Buffalo Trace barrel. Come join us.
ATTACH;FMTTYPE=image/jpeg:https://www.mnbeer.com/wp-content/uploads/2011/0
 6/france44.jpg
CATEGORIES:Beer Stores
LOCATION:France44 \, 4351 France Ave South\, Minneapolis\, MN Minnesota\, 5
 5410\, United States
GEO:44.9229423;-93.32870500000001
X-APPLE-STRUCTURED-LOCATION;VALUE=URI;X-ADDRESS=4351 France Ave South\, Min
 neapolis\, MN Minnesota\, 55410\, United States;X-APPLE-RADIUS=100;X-TITLE
 =France44 :geo:44.9229423,-93.32870500000001
END:VEVENT
END:VCALENDAR