BEGIN:VCALENDAR
VERSION:2.0
PRODID:-//wp-events-plugin.com//7.2.3.1//EN
BEGIN:VEVENT
UID:714@mnbeer.com
DTSTART:20140621T180000Z
DTEND:20140621T200000Z
DTSTAMP:20140527T195742Z
URL:https://www.mnbeer.com/events/france44-customer-appreciation-tasting-6
 /
SUMMARY:France44 Customer Appreciation Tasting
DESCRIPTION:Our Customer appreciation Tastings continue. Today we have Lagu
 nitas Brewery tasting out their 2011 Gnarlywine. We'll have plenty to go a
 round\, but supplies are limited. (No bottles will be for sale\, just for 
 tasting) Come join us.
ATTACH;FMTTYPE=image/jpeg:https://www.mnbeer.com/wp-content/uploads/2011/0
 6/france44.jpg
CATEGORIES:Beer Stores
LOCATION:France44\, 4351 France Ave South\, Minneapolis\, Minnesota\, 55410
 \, United States
GEO:44.9229423;-93.32870500000001
X-APPLE-STRUCTURED-LOCATION;VALUE=URI;X-ADDRESS=4351 France Ave South\, Min
 neapolis\, Minnesota\, 55410\, United States;X-APPLE-RADIUS=100;X-TITLE=Fr
 ance44:geo:44.9229423,-93.32870500000001
END:VEVENT
END:VCALENDAR