BEGIN:VCALENDAR
VERSION:2.0
PRODID:-//wp-events-plugin.com//7.2.3.1//EN
BEGIN:VEVENT
UID:716@mnbeer.com
DTSTART:20140628T180000Z
DTEND:20140628T200000Z
DTSTAMP:20140527T204401Z
URL:https://www.mnbeer.com/events/france44-customer-appreciation-tasting-7
 /
SUMMARY:France44 Customer Appreciation Tasting
DESCRIPTION:Our Customer appreciation Saturdays wrap up today with our fina
 l special tasting. Today we have Goose Island here sampling out their amaz
 ing 2013 Bourbon County Brand Stout. Lots of samples to go around\, but su
 pplies are limited. Sorry\, tasting only\, no bottles will be for sale. Co
 me join us.
ATTACH;FMTTYPE=image/jpeg:https://www.mnbeer.com/wp-content/uploads/2011/0
 6/france44.jpg
CATEGORIES:Beer Stores
LOCATION:France44\, 4351 France Ave South\, Minneapolis\, Minnesota\, 55410
 \, United States
GEO:44.9229423;-93.32870500000001
X-APPLE-STRUCTURED-LOCATION;VALUE=URI;X-ADDRESS=4351 France Ave South\, Min
 neapolis\, Minnesota\, 55410\, United States;X-APPLE-RADIUS=100;X-TITLE=Fr
 ance44:geo:44.9229423,-93.32870500000001
END:VEVENT
END:VCALENDAR