BEGIN:VCALENDAR
VERSION:2.0
PRODID:-//wp-events-plugin.com//7.2.3.1//EN
BEGIN:VEVENT
UID:1929@mnbeer.com
DTSTART:20160819T220000Z
DTEND:20160820T000000Z
DTSTAMP:20160815T040311Z
URL:https://www.mnbeer.com/events/free-minnesota-beer-tasting/
SUMMARY:Free Minnesota Beer Tasting
DESCRIPTION:Help us celebrate Minnesota Beer Month with a free craft beer t
 asting featuring some on Minnesota's best breweries! We will have over 50 
 different beers to sample.\n\nFeaturing: Bauhaus Brew Labs\, LTD Brewing\,
  Milk &amp\; Honey Ciders\, Sociable Cider Werks\, Blacklist Brewing\, Loo
 n Juice and Bent Brewstillery!\n\nWhen: Friday\, August 19th from 5:00 to 
 7:00pm\n\nWhere: Top Ten Liquors in St. Louis Park | Miracle Mile Shopping
  Center | 5111 Excelsior Blvd | St Louis Park\, MN 55416 | (952) 920-0750\
 n\nRewards Members will receive 10% off all Minnesota beer for the month o
 f August.\n\nAll Beer sampled will be on sale August 19 - 27\, 2016.\n\nMu
 st be at least 21 years old to attend.
ATTACH;FMTTYPE=image/jpeg:https://www.mnbeer.com/wp-content/uploads/SLP-MN
 -Beer-Month-Tasting-Growler.jpg
CATEGORIES:Tasting
LOCATION:Top Ten Liquors St. Louis Park\, 5111 Excelsior Blvd.\, St. Louis 
 Park\, Minnesota\, 55416\, Miracle Mile Shopping Center\, United States
GEO:44.9307671;-93.34621979999997
X-APPLE-STRUCTURED-LOCATION;VALUE=URI;X-ADDRESS=5111 Excelsior Blvd.\, St. 
 Louis Park\, Minnesota\, 55416\, Miracle Mile Shopping Center\, United Sta
 tes;X-APPLE-RADIUS=100;X-TITLE=Top Ten Liquors St. Louis Park:geo:44.93076
 71,-93.34621979999997
END:VEVENT
END:VCALENDAR