BEGIN:VCALENDAR
VERSION:2.0
PRODID:-//wp-events-plugin.com//7.2.3.1//EN
BEGIN:VEVENT
UID:3418@mnbeer.com
DTSTART:20190201T170000Z
DTEND:20190201T230000Z
DTSTAMP:20190123T183515Z
URL:https://www.mnbeer.com/events/friday-firkin/
SUMMARY:Friday Firkin!
DESCRIPTION:Sweet or Spicy? Vote on our next Friday Firkin! See our poll in
  the event details. Then stop down on Feb. 1st at 5pm to taste the winner.
 \n\nhttps://www.facebook.com/events/291397308401575/
LOCATION:Canal Park Brewing\, 300 Canal Park Dr\, Duluth\, MN\, United Stat
 es
X-APPLE-STRUCTURED-LOCATION;VALUE=URI;X-ADDRESS=300 Canal Park Dr\, Duluth\
 , MN\, United States;X-APPLE-RADIUS=100;X-TITLE=Canal Park Brewing:geo:0,0
END:VEVENT
END:VCALENDAR