BEGIN:VCALENDAR
VERSION:2.0
PRODID:-//wp-events-plugin.com//7.2.3.1//EN
BEGIN:VEVENT
UID:3223@mnbeer.com
DTSTART:20180624T170000Z
DTEND:20180624T180000Z
DTSTAMP:20180518T125942Z
URL:https://www.mnbeer.com/events/from-boil-to-bottle-brewing-your-own-cra
 ft-beer-2/
SUMMARY:From Boil to Bottle: Brewing Your Own Craft Beer
DESCRIPTION:Jump-start your homebrew adventure! Learn how to brew with our 
 experienced brewmasters in a fun\, hands-on setting. We’ll demonstrate h
 ow to brew a batch of beer with malt extract\, so you can experience the p
 rocess from start to finish. Learn practical tips and techniques for a suc
 cessful brew day and get the expert low-down on siphoning and bottling you
 r beer. You’ll also get 15% off any in-store purchase\, to help with you
 r very first brew day!\n\nCourse Includes:\n\nBeer basics\; what is beer\,
  beer terminology\, brief history\nBrewing methods: malt extract and its a
 dvantages to newer brewers\nDemonstration of making beer from an extract k
 it.\nOverview of brewing ingredients and equipment\n15% off in store purch
 ase\n\nSign Up Here:\nhttps://www.eventbrite.com/e/from-boil-to-bottle-bre
 wing-your-own-craft-beer-tickets-44603609597?aff=mnbeer
CATEGORIES:Homebrew
LOCATION:Northern Brewer - St. Paul\, 1150 Grand Ave\, St. Paul\, Minnesota
 \, 55105\, United States
GEO:44.9333345;-93.34125289999997
X-APPLE-STRUCTURED-LOCATION;VALUE=URI;X-ADDRESS=1150 Grand Ave\, St. Paul\,
  Minnesota\, 55105\, United States;X-APPLE-RADIUS=100;X-TITLE=Northern Bre
 wer - St. Paul:geo:44.9333345,-93.34125289999997
END:VEVENT
END:VCALENDAR