BEGIN:VCALENDAR
VERSION:2.0
PRODID:-//wp-events-plugin.com//7.2.3.1//EN
BEGIN:VEVENT
UID:1006@mnbeer.com
DTSTART:20150210T230000Z
DTEND:20150211T020000Z
DTSTAMP:20150103T053718Z
URL:https://www.mnbeer.com/events/fulton-firkin-beer-dinner-at-the-happy-g
 nome/
SUMMARY:Fulton Firkin Beer Dinner at The Happy Gnome
DESCRIPTION:Feburary 10th Fulton All Firkin Beer Dinner\n\n$85 Meet and Gre
 et at 6pm\, Dinner at 7pm.  \nFive Courses.  Five Firkins. \n\nTickets ava
 ilable at eventbrite.com.
CATEGORIES:Beer Dinner
LOCATION:The Happy Gnome\, 498 Selby Avenue\, Saint Paul\, Minnesota\, 5510
 4\, United States
GEO:44.946357;-93.12101710000002
X-APPLE-STRUCTURED-LOCATION;VALUE=URI;X-ADDRESS=498 Selby Avenue\, Saint Pa
 ul\, Minnesota\, 55104\, United States;X-APPLE-RADIUS=100;X-TITLE=The Happ
 y Gnome:geo:44.946357,-93.12101710000002
END:VEVENT
END:VCALENDAR