BEGIN:VCALENDAR
VERSION:2.0
PRODID:-//wp-events-plugin.com//7.2.3.1//EN
BEGIN:VEVENT
UID:717@mnbeer.com
DTSTART;VALUE=DATE:20140608
DTEND;VALUE=DATE:20140609
DTSTAMP:20140527T184535Z
URL:https://www.mnbeer.com/events/fulton-indeed-tap-takeover-summer-kick-o
 ff/
SUMMARY:Fulton &amp\; Indeed Tap Takeover - Summer Kick off!
DESCRIPTION:Two of Minnesota's favorite Breweries are joining forces to bri
 ng you a fantastic tap takeover to kick off summer at Uptown Tavern!\n\nSu
 nday\, June 8th Fulton and Indeed will be taking over our 16 taps on the r
 ooftop. We will have all of your staple favorites along with some specialt
 y and very rare beers from each brewery! \n\nEnjoy Live Music on the Rooft
 op along with a Pig Roast with treats topped with Homemade beer BBQ sauces
 !\n\nTappings start at 2pm - You will want to come early\, because some of
  these will go fast!\n\nCheers to Summer and good Beers!
ATTACH;FMTTYPE=image/jpeg:https://www.mnbeer.com/wp-content/uploads/screen
 shot.jpg
CATEGORIES:Music
LOCATION:Uptown Tavern and Rooftop\, 1400 Lagoon Ave\, Minneapolis\, Minnes
 ota\, 55408\, United States
GEO:44.949407;-93.297323
X-APPLE-STRUCTURED-LOCATION;VALUE=URI;X-ADDRESS=1400 Lagoon Ave\, Minneapol
 is\, Minnesota\, 55408\, United States;X-APPLE-RADIUS=100;X-TITLE=Uptown T
 avern and Rooftop:geo:44.949407,-93.297323
END:VEVENT
END:VCALENDAR