BEGIN:VCALENDAR
VERSION:2.0
PRODID:-//wp-events-plugin.com//7.2.3.1//EN
BEGIN:VEVENT
UID:992@mnbeer.com
DTSTART:20141230T220000Z
DTEND:20141231T020000Z
DTSTAMP:20141211T230006Z
URL:https://www.mnbeer.com/events/fulton-takes-over-brasa/
SUMMARY:Fulton Takes Over Brasa
DESCRIPTION:On Tuesday\, December 30th Fulton Brewing Company is taking ove
 r the taps at both Brasa locations! Dinner pairing plates are in the works
 . On tap we’ll be pouring Blonde\, sweet Child O Vine\, The Ringer and o
 ne other yet to be determined speciality beer.\n5:00–9:00pm.
CATEGORIES:Bars/Restaurants,Breweries
END:VEVENT
END:VCALENDAR