BEGIN:VCALENDAR
VERSION:2.0
PRODID:-//wp-events-plugin.com//7.2.3.1//EN
BEGIN:VEVENT
UID:1106@mnbeer.com
DTSTART:20150225T220000Z
DTEND:20150226T040000Z
DTSTAMP:20150218T191213Z
URL:https://www.mnbeer.com/events/fulton-tapping/
SUMMARY:Fulton Tapping
DESCRIPTION:We're tapping War and Peace\, Worthy Adversary\, Insurrection a
 nd Lonely Blonde!  S
CATEGORIES:Bars/Restaurants,Beer Release,Release,Tasting
LOCATION:3 Squares Restaurant\, 12690 Arbor Lakes Parkway\, Maple Grove\, M
 innesota\, 55369\, United States
GEO:45.098637;-93.441109
X-APPLE-STRUCTURED-LOCATION;VALUE=URI;X-ADDRESS=12690 Arbor Lakes Parkway\,
  Maple Grove\, Minnesota\, 55369\, United States;X-APPLE-RADIUS=100;X-TITL
 E=3 Squares Restaurant:geo:45.098637,-93.441109
END:VEVENT
END:VCALENDAR