BEGIN:VCALENDAR
VERSION:2.0
PRODID:-//wp-events-plugin.com//7.2.3.1//EN
BEGIN:VEVENT
UID:673@mnbeer.com
DTSTART:20140512T220000Z
DTEND:20140519T043000Z
DTSTAMP:20140506T154651Z
URL:https://www.mnbeer.com/events/fulton-week/
SUMMARY:Fulton Week
DESCRIPTION:Fulton Week at the Pig &amp\; Fiddle...it's a neighborhood thin
 g! Celebrate all things Fulton during American Craft Beer Week\, May 12-18
 .\n\nFeaturing TEN Fulton taps and two mystery firkins:\n\nSweet Child of 
 Vine\nLonely Blonde\nThe Ringer\nMPLS Mild\nExpat Rye Saison\nLibertine\nW
 orthy Adversary\nWar &amp\; Peace\nPatience Barleywine\nMaitrise Imperial 
 Farmhouse Ale
ATTACH;FMTTYPE=image/jpeg:https://www.mnbeer.com/wp-content/uploads/image.
 jpg
CATEGORIES:Bars/Restaurants,Breweries
LOCATION:Pig &amp\; Fiddle\, 3812 W 50th St\, Minneapolis\, MN\, 55410\, Un
 ited States
GEO:44.9125321;-93.32815529999999
X-APPLE-STRUCTURED-LOCATION;VALUE=URI;X-ADDRESS=3812 W 50th St\, Minneapoli
 s\, MN\, 55410\, United States;X-APPLE-RADIUS=100;X-TITLE=Pig & Fiddle:geo
 :44.9125321,-93.32815529999999
END:VEVENT
END:VCALENDAR