BEGIN:VCALENDAR
VERSION:2.0
PRODID:-//wp-events-plugin.com//7.2.3.1//EN
BEGIN:VEVENT
UID:3230@mnbeer.com
DTSTART:20180608T010000Z
DTEND:20180608T040000Z
DTSTAMP:20180607T133938Z
URL:https://www.mnbeer.com/events/fundraiser-comedy-night-hosted-by-charli
 e-stemig/
SUMMARY:Fundraiser Comedy Night Hosted by Charlie Stemig
DESCRIPTION:An evening of comedy for a great cause! Hosted by Twin Cities f
 unnymanCharlie Stemig\, the night will feature standup sets from Shane Mic
 haelson\, Trent Ludzack\, James Stanley\, Sterling Brown\, Ashlee Flint\, 
 Grant Winkels\, Earl Eliot\, and Drew Hehir.\n\n$1 from the first 100 beer
 s sold during the show will go towards fundraising efforts for the Nation
 al Multiple Sclerosis Society. Once 100 beers are sold\, $2 from every bee
 r after that will be donated!
ATTACH;FMTTYPE=image/jpeg:https://www.mnbeer.com/wp-content/uploads/Comedy
 -Night-2018.06-square.jpg
CATEGORIES:Charity,Misc.
LOCATION:Big Wood Brewery\, 2222 4th Street\, White Bear Lake\, Minnesota\,
  55110\, United States
GEO:45.0853084;-93.00678719999996
X-APPLE-STRUCTURED-LOCATION;VALUE=URI;X-ADDRESS=2222 4th Street\, White Bea
 r Lake\, Minnesota\, 55110\, United States;X-APPLE-RADIUS=100;X-TITLE=Big 
 Wood Brewery:geo:45.0853084,-93.00678719999996
END:VEVENT
END:VCALENDAR