BEGIN:VCALENDAR
VERSION:2.0
PRODID:-//wp-events-plugin.com//7.2.3.1//EN
BEGIN:VEVENT
UID:972@mnbeer.com
DTSTART:20141213T170000Z
DTEND:20141213T210000Z
DTSTAMP:20141211T071210Z
URL:https://www.mnbeer.com/events/gear-beer-cheer-holiday-pop-up-shop/
SUMMARY:Gear\, Beer & Cheer Holiday Pop-Up Shop
DESCRIPTION:We’re hosting a pop up shop at the taproom! Enjoy the flavor 
 of LynLake Brewery while you browse the regalia of some of the Twin Cities
 ' finest local businesses\, including Mill City Fineries\, William Rogue &
 amp\; Co\, Lucy &amp\; Co\, Marked\, Inc.\, Atmosfere\, Samedi\, and Sota 
 clothing.\n\n&nbsp\;
ATTACH;FMTTYPE=image/jpeg:https://www.mnbeer.com/wp-content/uploads/Gear-B
 eer-Cheer_12x18_Flyer02.jpg
CATEGORIES:Breweries
LOCATION:Lynlake Brewery\, 2934 Lyndale Avenue South\, Minneapolis\, MN\, U
 nited States
GEO:44.948899;-93.28850899999998
X-APPLE-STRUCTURED-LOCATION;VALUE=URI;X-ADDRESS=2934 Lyndale Avenue South\,
  Minneapolis\, MN\, United States;X-APPLE-RADIUS=100;X-TITLE=Lynlake Brewe
 ry:geo:44.948899,-93.28850899999998
END:VEVENT
END:VCALENDAR