BEGIN:VCALENDAR
VERSION:2.0
PRODID:-//wp-events-plugin.com//7.2.3.1//EN
BEGIN:VEVENT
UID:1211@mnbeer.com
DTSTART;VALUE=DATE:20150619
DTEND;VALUE=DATE:20150623
DTSTAMP:20150428T004715Z
URL:https://www.mnbeer.com/events/germanfest-2015-06-19/
SUMMARY:GermanFest
DESCRIPTION:Celebrate German culture with GermanFest! GermanFest shares all
  of the aspects that make up German culture with our community: music/song
 \, dance\, games\, clothing\, local customs\, community programs and art\,
  along with German food and beer.\n\nThe second annual family-friendly Ger
 manFest will take place on June 19-21 at the Historic Schmidt Brewery.\n\n
 Festivities Include:\n*Historical Tours of Schmidt Brewery\n*Strongman Com
 petition\n*Human Fussball – Saint Paul Firefighters\n*FirefighterSchlage
 n- Saint Paul Firefighters\n•German language lessons with GAI\n*Traditio
 nal Music and Dancing\n•German Star making\n•Historical walking\, bus 
 tours\, and Rathskeller tours\n•German Genealogy &amp\; name recognition
 \n•German Films\n•Art Start\, Father’s Day Art\n*Wiener Dog Racing\n
 *Sheppard Road Bike Ride\n*Father's Day 5k\n*And more....\n\n(June 19-21)\
 nFriday 4pm –10pm\nSaturday 10am –10pm\nSunday10am – 5pm\n\nFor more
  information visit: Germanfestmn.org
CATEGORIES:Festival
LOCATION:Historic Schmidt Brewery\, 882 Seventh St. W\, St. Paul\, MN\, Wes
 t 7h Neighborhood\, United States
GEO:44.928332;-93.121463
X-APPLE-STRUCTURED-LOCATION;VALUE=URI;X-ADDRESS=882 Seventh St. W\, St. Pau
 l\, MN\, West 7h Neighborhood\, United States;X-APPLE-RADIUS=100;X-TITLE=H
 istoric Schmidt Brewery:geo:44.928332,-93.121463
END:VEVENT
END:VCALENDAR