BEGIN:VCALENDAR
VERSION:2.0
PRODID:-//wp-events-plugin.com//7.2.3.1//EN
BEGIN:VEVENT
UID:1059@mnbeer.com
DTSTART:20150221T133000Z
DTEND:20150222T030000Z
DTSTAMP:20150114T182251Z
URL:https://www.mnbeer.com/events/getknits-north-shore-brewery-tour/
SUMMARY:GetKnit's North Shore Brewery Tour
DESCRIPTION:Join GetKnit Events on their North Shore Brewery Tour: a day tr
 ip to Duluth\, MN and beyond\, with visits to 6 unique local breweries\, 2
 5+ beer tastings\, 3 meals\, and round-trip transportation! You’ll visit
  Bent Paddle Brewing\, Canal Park Brewing\, Lake Superior Brewing\, Castle
  Danger Brewing\, Carmody Irish Pub and Brewery\, and Tycoons Alehouse (se
 rving Fitgers Brewhouse beer). For more info and to get your tickets visit
 : https://getknitevents.com/public-events/north-shore-brewery-tour/
ATTACH;FMTTYPE=image/jpeg:https://www.mnbeer.com/wp-content/uploads/CP_Eve
 nt-Listing_NS-Brew-Tour_600-x-600.jpg
CATEGORIES:Breweries
LOCATION:Park-N-Ride\, 2750 Cleveland Avenue Ros\, Roseville\, MN\, 55113\,
  United States
GEO:45.0060767;-93.15661069999999
X-APPLE-STRUCTURED-LOCATION;VALUE=URI;X-ADDRESS=2750 Cleveland Avenue Ros\,
  Roseville\, MN\, 55113\, United States;X-APPLE-RADIUS=100;X-TITLE=Park-N-
 Ride:geo:45.0060767,-93.15661069999999
END:VEVENT
END:VCALENDAR