BEGIN:VCALENDAR
VERSION:2.0
PRODID:-//wp-events-plugin.com//7.2.3.1//EN
BEGIN:VEVENT
UID:1050@mnbeer.com
DTSTART:20150328T160000Z
DTEND:20150328T214500Z
DTSTAMP:20150113T212834Z
URL:https://www.mnbeer.com/events/getknits-twin-cities-progressive-meal-br
 ewpub-tour-2/
SUMMARY:GetKnit's Twin Cities Progressive Meal Brewpub Tour
DESCRIPTION:This Get-together brings together four of the top Brewpubs in t
 he Twins Cities to create a progressive meal that features 8 unique small 
 plates (2 at each stop) with 16 different craft brews (4 at each stop) to 
 help us wash down all of our food.  For more information and to get your t
 ickets visit: https://getknitevents.com/public-events/progressive-brewpub-
 tour/
ATTACH;FMTTYPE=image/jpeg:https://www.mnbeer.com/wp-content/uploads/TC-Bre
 wpub-Tour-2015-FB-Banner_updated-021.jpg
CATEGORIES:Brewpubs
LOCATION:Northbound Smokehouse Brewpub\, 2716 E 38th Street\, Minneapolis\,
  MN\, United States
GEO:44.934299;-93.232498
X-APPLE-STRUCTURED-LOCATION;VALUE=URI;X-ADDRESS=2716 E 38th Street\, Minnea
 polis\, MN\, United States;X-APPLE-RADIUS=100;X-TITLE=Northbound Smokehous
 e Brewpub:geo:44.934299,-93.232498
END:VEVENT
END:VCALENDAR