BEGIN:VCALENDAR
VERSION:2.0
PRODID:-//wp-events-plugin.com//7.2.3.1//EN
BEGIN:VEVENT
UID:3294@mnbeer.com
DTSTART:20181117T150000Z
DTEND:20181117T170000Z
DTSTAMP:20181102T131129Z
URL:https://www.mnbeer.com/events/gmorning-gafternoon-and-gnight-a-town-ha
 ll-brewery-food-journey/
SUMMARY:G’Morning\, G’Afternoon and G’Night: A Town Hall Brewery Food
  Journey
DESCRIPTION:Town Hall Brewery will host G’Morning\, G’Afternoon and G
 ’Night\, a menu showcase spanning dishes from breakfast to dessert\, 10 
 a.m.–noon\, Saturday\, November 17. The event will feature four meals wi
 th drink pairings\, including bourbon-based cocktails\, barrel-aged beers 
 and cider. Town Hall’s new bourbon barrel-aged maple syrup will star in 
 each dish and select drinks. \n\nThis new series represents so much about 
 what Town Hall is known for — great beer\, in particular those that are 
 aged in barrels\, amazing cocktails\, fantastic food\, a broad guest cider
  program and a creative and innovative approach. \n\nBeyond the menu\, the
 re will be a drawing at this fantastic feast for two Pint Club memberships
 \, which provide beer deals for a lifetime. Tickets are $50 and can be pur
 chased at Town Hall Brewery or by emailing events@townhallbrewery.com. \n\
 nMenu: \nAperitif: Maple cream cocktail with spiced butter cookie \n  \nFi
 rst Course:  Bourbon-battered butter pecan brioche French toast \nDrink Pa
 iring: Butter washed Old Grand Dad with maple cube \n  \nSecond Course: Al
 derwood smoked Atlantic salmon salad with jicama\, radishes and barrel-age
 d maple and Vine’s Eye dressing\nDrink Pairing: Shacksbury Dry Cider \n 
  \nThird Course: Maple glazed turkey breast with wild rice stuffing\, roas
 ted potatoes and barrel-aged maple cranberries \nDrink Pairing: Pumpkin Al
 e \n  \nFourth Course: Crustless pecan pie with bourbon barrel-aged maple 
 syrup\nDrink Pairing: Tennessee Dessert barrel-aged beer\n\n\nTown Hall Br
 ewery is located at 1430 S Washington Ave.\, Minneapolis\, MN 55454. \n
CATEGORIES:Bars/Restaurants,Beer Dinner,Beer
 Festival,Breweries,Brewpubs,Foodie,Tasting
LOCATION:Minneapolis Town Hall Brewery\, 1430 Washington Avenue South\, Min
 neapolis\, MN\, United States
GEO:44.9733315;-93.24778570000001
X-APPLE-STRUCTURED-LOCATION;VALUE=URI;X-ADDRESS=1430 Washington Avenue Sout
 h\, Minneapolis\, MN\, United States;X-APPLE-RADIUS=100;X-TITLE=Minneapoli
 s Town Hall Brewery:geo:44.9733315,-93.24778570000001
END:VEVENT
END:VCALENDAR