BEGIN:VCALENDAR
VERSION:2.0
PRODID:-//wp-events-plugin.com//7.2.3.1//EN
BEGIN:VEVENT
UID:740@mnbeer.com
DTSTART:20140714T233000Z
DTEND:20140715T023000Z
DTSTAMP:20140709T022539Z
URL:https://www.mnbeer.com/events/goose-island-beer-dinner/
SUMMARY:Goose Island Beer Dinner
DESCRIPTION:Beer enthusiasts: Join us at Ruth's Chris Steak House Minneapol
 is on July 14th at 6:30 pm for a Goose Island Beer Dinner hosted by George
  Reisch\, 5th Generation Brewmaster\, Anheuser-Busch InBev. \n\n$75 5-cour
 ses with Goose Island's finest beer pairings. Call for reservations: 612.6
 72.9000 \n\nFirst Course: \nCrabtini with The Ogden\nSecond Course:\nTomat
 o Mozzarella Salad with 312 Urban Wheat\nThird Course:\nCarpaccio with Pep
 e Nero\nFourth Course:\nNew York Strip with Matilda\nFifth Course: \nChoco
 late Sin Cake with Bourbon County Stout
ATTACH;FMTTYPE=image/jpeg:https://www.mnbeer.com/wp-content/uploads/photo2
 .jpg
CATEGORIES:Beer Dinner
LOCATION:Ruth's Chris Steak House\, 920 2nd Ave. S. Ste. 100\, Minneapolis\
 , MN\, 55402\, United States
GEO:44.9731221;-93.27223579999997
X-APPLE-STRUCTURED-LOCATION;VALUE=URI;X-ADDRESS=920 2nd Ave. S. Ste. 100\, 
 Minneapolis\, MN\, 55402\, United States;X-APPLE-RADIUS=100;X-TITLE=Ruth's
  Chris Steak House:geo:44.9731221,-93.27223579999997
END:VEVENT
END:VCALENDAR