BEGIN:VCALENDAR
VERSION:2.0
PRODID:-//wp-events-plugin.com//7.2.3.1//EN
BEGIN:VEVENT
UID:3436@mnbeer.com
DTSTART:20190505T180000Z
DTEND:20190505T220000Z
DTSTAMP:20190208T220849Z
URL:https://www.mnbeer.com/events/grillfest-2019-2019-05-05/
SUMMARY:Grillfest 2019
DESCRIPTION:Join Minnesota Monthly in celebrating its 8th annual Grillfest\
 , a two-day summer kickoff event full of food\, fun and most importantly\,
  grilling!\n\nThis year’s event will feature food\, beer and wine sampli
 ng from many great vendors as well as grilling tips that are guaranteed to
  get you grilling like a pro at your next barbecue party.\n\nGrillfest wil
 l be held on May 4th and 5th\, from 1 p.m to 5 p.m\, at the home of the St
 . Paul Saints\, CHS Field.\n\nGrillFest is a 21+ event. Tickets are $55. B
 uy them here: https://grillfestival.com/
ATTACH;FMTTYPE=image/jpeg:https://www.mnbeer.com/wp-content/uploads/screen
 shot-1.jpg
CATEGORIES:Tasting
LOCATION:CHS Field\, 360 N Broadway St.\, St. Paul\, MN\, 55101\, United St
 ates
X-APPLE-STRUCTURED-LOCATION;VALUE=URI;X-ADDRESS=360 N Broadway St.\, St. Pa
 ul\, MN\, 55101\, United States;X-APPLE-RADIUS=100;X-TITLE=CHS Field:geo:0
 ,0
END:VEVENT
END:VCALENDAR