BEGIN:VCALENDAR
VERSION:2.0
PRODID:-//wp-events-plugin.com//7.2.3.1//EN
BEGIN:VEVENT
UID:982@mnbeer.com
DTSTART:20141215T230000Z
DTEND:20141216T230000Z
DTSTAMP:20141211T224918Z
URL:https://www.mnbeer.com/events/groveland-tap-12-nights-of-christmas-201
 4-12-15/
SUMMARY:Groveland Tap 12 Nights of Christmas
DESCRIPTION:
ATTACH;FMTTYPE=image/jpeg:https://www.mnbeer.com/wp-content/uploads/12nigh
 ts.jpg
CATEGORIES:Bars/Restaurants
LOCATION:Groveland Tap\, 1834 St. Clair Ave.\, St. Paul\, MN\, 55105\, Unit
 ed States
GEO:44.934029;-93.17792099999997
X-APPLE-STRUCTURED-LOCATION;VALUE=URI;X-ADDRESS=1834 St. Clair Ave.\, St. P
 aul\, MN\, 55105\, United States;X-APPLE-RADIUS=100;X-TITLE=Groveland Tap:
 geo:44.934029,-93.17792099999997
END:VEVENT
END:VCALENDAR