BEGIN:VCALENDAR
VERSION:2.0
PRODID:-//wp-events-plugin.com//7.2.3.1//EN
BEGIN:VEVENT
UID:827@mnbeer.com
DTSTART:20141011T140000Z
DTEND:20141011T200000Z
DTSTAMP:20140909T041919Z
URL:https://www.mnbeer.com/events/guzzle-twirl-2014/
SUMMARY:Guzzle & Twirl 2014
DESCRIPTION:Since 1974\, the North Star Chapter has hosted Guzzle 'n Twirl\
 , arguably one of the largest breweriana shows in the Upper Midwest. The n
 ame of the show was a result of collectors enjoying beer\, while exchangin
 g beer cans on the trade floor\, followed by an evening dinner and dance. 
 Today there is less dancing but he interest in breweriana collectibles rem
 ains strong as evidenced by attendance.\n\nIn October\, collectors from th
 roughout the country make their way to this event. They reunite with other
  enthusiasts to bolster their collections of beer cans\, signs\, trays\, t
 ap knobs\, clocks and anything related to beer.\n\nThe Saturday even is op
 en to the public and nearly 300 tables are set for collectors to display t
 heir items for sale or trade.\n\nPhotos From the Guzzle 'N Twirl Show\n\nT
 o learn more about the event download the PDF files of the show flyer and 
 registration form. Click on the show image for a photo gallery.\n\n2014 GN
 T Registration Form.pdf\n\n2014 GNT - Public Flyer.pdf\n\n40th Anniversary
  Brochure.pdf
LOCATION:Aldrich Arena\, 1850 White Bear Avenue\, Maplewood\, MN\, United S
 tates
GEO:44.996798;-93.02358800000002
X-APPLE-STRUCTURED-LOCATION;VALUE=URI;X-ADDRESS=1850 White Bear Avenue\, Ma
 plewood\, MN\, United States;X-APPLE-RADIUS=100;X-TITLE=Aldrich Arena:geo:
 44.996798,-93.02358800000002
END:VEVENT
END:VCALENDAR