BEGIN:VCALENDAR
VERSION:2.0
PRODID:-//wp-events-plugin.com//7.2.3.1//EN
BEGIN:VEVENT
UID:3269@mnbeer.com
DTSTART:20181024T230000Z
DTEND:20181025T003000Z
DTSTAMP:20180921T034931Z
URL:https://www.mnbeer.com/events/h2o-hops-habitat-restoration-water-quali
 ty-and-you/
SUMMARY:H2O + Hops: Habitat restoration\, water quality\, and you!
DESCRIPTION:Join us for an evening of H2O and hops at Hastings' newest wate
 ring hole\, Spiral Brewery! Local experts from Friends of the Mississippi 
 River (FMR) and Hastings Environmental Protectors (HEP) will highlight imp
 ortant trends and emerging issues facing the Vermillion Watershed. Learn a
 bout local efforts to improve water quality and increase habitat restorati
 on and biodiversity – plus actions you can take in your home and yard to
  help do your part.\n\nFollowing the presentation\, we'll have an informal
  Q &amp\; A session. To make sure everyone has a chance to ask questions\,
  and due to limited seating\, advance registration required. To learn more
  and register\, visit https://fmr.org/events/2018/10/24/h2o-hops-habitat-r
 estoration-water-quality-and-you 
CATEGORIES:Education
LOCATION:Spiral Brewery\, 111 2nd St E\, Hastings\, MN\, 55033\, United Sta
 tes
GEO:44.7446584;-92.85189830000002
X-APPLE-STRUCTURED-LOCATION;VALUE=URI;X-ADDRESS=111 2nd St E\, Hastings\, M
 N\, 55033\, United States;X-APPLE-RADIUS=100;X-TITLE=Spiral Brewery:geo:44
 .7446584,-92.85189830000002
END:VEVENT
END:VCALENDAR