BEGIN:VCALENDAR
VERSION:2.0
PRODID:-//wp-events-plugin.com//7.2.3.1//EN
BEGIN:VEVENT
UID:622@mnbeer.com
DTSTART:20140507T230000Z
DTEND:20140508T020000Z
DTSTAMP:20140329T005505Z
URL:https://www.mnbeer.com/events/happy-hour-with-brau-bros/
SUMMARY:Happy Hour with Brau Bros'
DESCRIPTION:The Harvest Grill is going to have Brau Brothers as their beer 
 of the month in May so let's celebrate! Come on out to a special MN Craft 
 Beer Week Happy Hour with Brau Bros' on Wednesday May 7th. Brewery personn
 el will be there to interact with guests. 
CATEGORIES:Bars/Restaurants
LOCATION:Harvest Grill\, 21390 John Milless Dr\, Rogers\, MN\, 55374\, Unit
 ed States
GEO:45.192875;-93.55048899999997
X-APPLE-STRUCTURED-LOCATION;VALUE=URI;X-ADDRESS=21390 John Milless Dr\, Rog
 ers\, MN\, 55374\, United States;X-APPLE-RADIUS=100;X-TITLE=Harvest Grill:
 geo:45.192875,-93.55048899999997
END:VEVENT
END:VCALENDAR