BEGIN:VCALENDAR
VERSION:2.0
PRODID:-//wp-events-plugin.com//7.2.3.1//EN
BEGIN:VEVENT
UID:994@mnbeer.com
DTSTART:20150208T000000Z
DTEND:20150208T053000Z
DTSTAMP:20141215T202210Z
URL:https://www.mnbeer.com/events/harriet-brewings-4th-anniversary-extrava
 ganza/
SUMMARY:Harriet Brewing’s 4th Anniversary Extravaganza
DESCRIPTION:Harriet Brewing is celebrating our Four Year Anniversary in tru
 e Harriet fashion at The Cedar on February 7th. We’re taking over all th
 e taps\, dancing to top notch live music\, and hanging out with the commun
 ity that has helped us make our first four years absolutely incredible! Th
 e total tap takeover begins at 7pm (featuring all of Harriet’s brews) pl
 us live music from local rockers American Scarecrows\, Roots/Americana art
 ist Erik Koskinen (full band performance featuring J.T. Bates\, Frankie Le
 e\, and Paul Bergen)\, and folk-trio The Last Revel. Eat at Sandy’s will
  be parked outside The Cedar almost all night to keep your belly full and 
 your body groovin’. Come celebrate with live painting\, a photo booth\, 
 live local Minnesota music plus Harriet beer and more to be announced at T
 he Cedar on Saturday\, February 7th!\n\nSaturday\, February 7th at The CED
 AR\nDoors at 7pm • Music at 7:30pm • 21+\nGeneral Admission Tickets: $
 12 in advance/ $15 at door\nTickets On-Sale Friday November 21 at Noon\nBU
 Y TICKETS\n\nBuy your tickets early as we have sold out every year!\nBeer 
 Menu\n\nJuhla Brü ~ Special 25th Anniversary Cedar Beer Re-Released\nFinn
 ish-Style Sahti brewed with Red Cedar twigs\, tips and Juniper.\nElevator 
 – Doppelbock ~ 2014 return!!\nWest Side – Belgian-Style IPA\nWachen Bo
 ck - German Style Bock\nDark Abbey – Belgian-Style Dubbel\nDivine Oculus
 t – Belgian-Style Golden Strong\nWoluptuweiss – German-Style Dunkelwei
 zen\nPLUS Special Releases TBA\nBeer Menu subject to change…\nLive Music
  Line-Up\n\nAmerican Scarecrows (10:30pm)\nErik Koskinen (9:00pm)\nThe Las
 t Revel (7:30pm)\n\nLive Painting by several local artists\nTicket Informa
 tion\n\nTickets available at the Harriet Brewing’s Tap Room\, Cedar Box 
 Office\, all Cedar ticket outlets\, by calling 612.338.2674 and online at 
 TheCedar.org.
ATTACH;FMTTYPE=image/jpeg:https://www.mnbeer.com/wp-content/uploads/4YearA
 nniversary-650x400.jpg
CATEGORIES:Art,Beer Release,Festival,Misc.,Music
LOCATION:The Cedar\, 416 Cedar Ave South \, Minneapolis\, MN\, 55454 \, Uni
 ted States
GEO:44.969404;-93.24757899999997
X-APPLE-STRUCTURED-LOCATION;VALUE=URI;X-ADDRESS=416 Cedar Ave South \, Minn
 eapolis\, MN\, 55454 \, United States;X-APPLE-RADIUS=100;X-TITLE=The Cedar
 :geo:44.969404,-93.24757899999997
END:VEVENT
END:VCALENDAR