BEGIN:VCALENDAR
VERSION:2.0
PRODID:-//wp-events-plugin.com//7.2.3.1//EN
BEGIN:VEVENT
UID:767@mnbeer.com
DTSTART:20140809T170000Z
DTEND:20140809T170000Z
DTSTAMP:20140723T215640Z
URL:https://www.mnbeer.com/events/harriet-summer-sampler/
SUMMARY:Harriet Summer Sampler
DESCRIPTION:The Minnesota Food Truck Association (MFTA) returns to Harriet 
 Brewing with their “Summer Sampler” on Saturday\, August 9and will fea
 ture 18 food trucks plus free live music in Harriet’s Tap Room from Noon
  to 7PM.\nMusic Lineup: Walker Fields Jr. (12 pm)\, JiLL (2 pm)\, St. Dom
 inic’s Trio (4 pm)\, The Butanes (6pm)\nPlus\, a very special after-part
 y is planned with the Honey Island Swamp Band from New Orleans.\n\nAttache
 d is the Media Release and Poster with full details.
ATTACH;FMTTYPE=image/jpeg:https://www.mnbeer.com/wp-content/uploads/Summer
 Sampler-Poster.jpg
CATEGORIES:Breweries,Foodie
LOCATION:Harriet Brewing\, 3036 Minnehaha Ave\, Minneapolis\, MN\, 55406\, 
 United States
GEO:44.9471444;-93.2338704
X-APPLE-STRUCTURED-LOCATION;VALUE=URI;X-ADDRESS=3036 Minnehaha Ave\, Minnea
 polis\, MN\, 55406\, United States;X-APPLE-RADIUS=100;X-TITLE=Harriet Brew
 ing:geo:44.9471444,-93.2338704
END:VEVENT
END:VCALENDAR