BEGIN:VCALENDAR
VERSION:2.0
PRODID:-//wp-events-plugin.com//7.2.3.1//EN
BEGIN:VEVENT
UID:783@mnbeer.com
DTSTART;VALUE=DATE:20141004
DTEND;VALUE=DATE:20141006
DTSTAMP:20140731T164222Z
URL:https://www.mnbeer.com/events/harvest-moon-2014-10-04/
SUMMARY:Harvest Moon
DESCRIPTION:Fall in Northern Minnesota is something to savor. Join us at Mo
 ondance Harvest Moon Festival - a truly unique beer and wine tasting festi
 val with live entertainment. The fall colors at Moondance are amazing and 
 Moondance is all about fun\, so we have combined them all into one! We hav
 e entertainment and activities all day for families\, friends\, couples\, 
 grandparents... Everyone! The evening will feature The Belfast Cowboys: Va
 n Morrison Tribute in the MDJ Saloon! You can come for just the day or mak
 e it a weekend and stay in our campgrounds.\nhttp://www.moondanceevents.ne
 t/Harvest_Moon.php\n\nTastes of over 50 Craft Beers &amp\; Wine\nFood netw
 ork star Amy Theilen cooding demo\nVariety of Food\nArtist demo\nCrafters/
 Artists\nAdult Make &amp\; Take\nDog Agility Show\nWiener Dog Races\nRedne
 ck Olympic Games\nBuzzed Up Spelling Bee for Adults\nCamping\nLive Music E
 ntertainment All Day &amp\; The Belfast Cowboys: Van Morrison Tribute at N
 ight\n\nPumpkin Dessert Contest\nHome Brew Contest\nLots of Kids' Games an
 d Activities\nBalloon &amp\; Magic Man Show\nKids' Bingo\nKids' Make &amp\
 ; Take\nFamily Friendly 5k Run/Walk
ATTACH;FMTTYPE=image/jpeg:https://www.mnbeer.com/wp-content/uploads/harves
 t-moon.gif
CATEGORIES:Festival
LOCATION:Moondance Events \, 7050 Turtle Lake Twsh 46\, Walker \, MN\, 5648
 4\, United States
GEO:47.062282;-94.48433499999999
X-APPLE-STRUCTURED-LOCATION;VALUE=URI;X-ADDRESS=7050 Turtle Lake Twsh 46\, 
 Walker \, MN\, 56484\, United States;X-APPLE-RADIUS=100;X-TITLE=Moondance 
 Events :geo:47.062282,-94.48433499999999
END:VEVENT
END:VCALENDAR